BEGIN:VCALENDAR
VERSION:2.0
PRODID:-//Stand With Our St Vrain Creek - ECPv5.12.4//NONSGML v1.0//EN
CALSCALE:GREGORIAN
METHOD:PUBLISH
X-WR-CALNAME:Stand With Our St Vrain Creek
X-ORIGINAL-URL:http://standwithourstvraincreek.com
X-WR-CALDESC:Events for Stand With Our St Vrain Creek
BEGIN:VTIMEZONE
TZID:America/Denver
BEGIN:DAYLIGHT
TZOFFSETFROM:-0700
TZOFFSETTO:-0600
TZNAME:MDT
DTSTART:20260308T090000
END:DAYLIGHT
BEGIN:STANDARD
TZOFFSETFROM:-0600
TZOFFSETTO:-0700
TZNAME:MST
DTSTART:20261101T080000
END:STANDARD
END:VTIMEZONE
BEGIN:VEVENT
DTSTART;TZID=America/Denver:20260520T174500
DTEND;TZID=America/Denver:20260520T190000
DTSTAMP:20260424T043914
CREATED:20260422T162857Z
LAST-MODIFIED:20260422T163019Z
UID:8913-1779299100-1779303600@standwithourstvraincreek.com
SUMMARY:Roger's Grove Bird Walk
DESCRIPTION:You’re invited to a Longmont Friends of Open Space bird walk! Come and learn about the city’s mitigation plan for our precious and rare Bank Swallow colony arriving anytime now from Central and S. America (their current habitat by the pedestrian bridge at Rogers Grove willl be wiped out w/flood mitigation plan). \nWe will meet at the Roger’s Grove picnic pavilion near the parking lot at 5:45pm. \nShare on FacebookTweetFollow us\n\n	Related
URL:http://standwithourstvraincreek.com/event/rogers-grove-bird-walk-4/
LOCATION:Roger’s Grove picnic pavilion\, 220 Hover St\, Longmont\,\, CO\, 80501\, United States
CATEGORIES:Bank Swallow,Bird walk
ORGANIZER;CN="Stand%20With%20Our%20St.%20Vrain%20Creek":MAILTO:standwithstvraincreek@gmail.com
END:VEVENT
END:VCALENDAR